BEGIN:VCALENDAR
VERSION:2.0
PRODID:-//Special Olympics - ECPv6.13.2.1//NONSGML v1.0//EN
CALSCALE:GREGORIAN
METHOD:PUBLISH
X-ORIGINAL-URL:https://www.specialolympicsgroningen.nl
X-WR-CALDESC:Evenementen voor Special Olympics
REFRESH-INTERVAL;VALUE=DURATION:PT1H
X-Robots-Tag:noindex
X-PUBLISHED-TTL:PT1H
BEGIN:VTIMEZONE
TZID:UTC
BEGIN:STANDARD
TZOFFSETFROM:+0000
TZOFFSETTO:+0000
TZNAME:UTC
DTSTART:20250101T000000
END:STANDARD
END:VTIMEZONE
BEGIN:VEVENT
DTSTART;VALUE=DATE:20251123
DTEND;VALUE=DATE:20251124
DTSTAMP:20260423T160557
CREATED:20250211T090954Z
LAST-MODIFIED:20250911T112124Z
UID:10000015-1763856000-1763942399@www.specialolympicsgroningen.nl
SUMMARY:Tafeltennis
DESCRIPTION:Let op! Datum is gewijzigd. Nieuwe datum 23 november 2025 (i.p.v. 22 november)
URL:https://www.specialolympicsgroningen.nl/evenement/tafeltennis/
LOCATION:Hippolytushal\, Coendersweg 27A\, Middelstum\, Groningen\, 9991 CC\, Netherlands
CATEGORIES:Tafeltennis
ATTACH;FMTTYPE=image/jpeg:https://www.specialolympicsgroningen.nl/app/uploads/2025/02/tafeltennis.jpg
END:VEVENT
END:VCALENDAR