BEGIN:VCALENDAR
VERSION:2.0
PRODID:-//Special Olympics - ECPv6.13.2.1//NONSGML v1.0//EN
CALSCALE:GREGORIAN
METHOD:PUBLISH
X-WR-CALNAME:Special Olympics
X-ORIGINAL-URL:https://www.specialolympicsgroningen.nl
X-WR-CALDESC:Evenementen voor Special Olympics
REFRESH-INTERVAL;VALUE=DURATION:PT1H
X-Robots-Tag:noindex
X-PUBLISHED-TTL:PT1H
BEGIN:VTIMEZONE
TZID:UTC
BEGIN:STANDARD
TZOFFSETFROM:+0000
TZOFFSETTO:+0000
TZNAME:UTC
DTSTART:20250101T000000
END:STANDARD
END:VTIMEZONE
BEGIN:VEVENT
DTSTART;TZID=UTC:20250827T183115
DTEND;TZID=UTC:20250827T183115
DTSTAMP:20260423T160507
CREATED:20241022T142801Z
LAST-MODIFIED:20250827T183115Z
UID:10000003-1756319475-1756319475@www.specialolympicsgroningen.nl
SUMMARY:Atletiek
DESCRIPTION:De voorgestelde datum in september bleek helaas niet haalbaar. Er wordt gekeken of we met een nieuwe datum voor atletiek kunnen komen.
URL:https://www.specialolympicsgroningen.nl/evenement/atletiek/
CATEGORIES:Atletiek
ATTACH;FMTTYPE=image/jpeg:https://www.specialolympicsgroningen.nl/app/uploads/2024/10/JAN-Atletiek2.jpg
END:VEVENT
END:VCALENDAR